BEGIN:VCALENDAR
VERSION:2.0
PRODID:-//eventon.com NONSGML v1.0//EN
CALSCALE:GREGORIAN
METHOD:PUBLISH
BEGIN:VEVENT
UID:69e8dcd5e816f
DTSTAMP:20260422T143605Z
DTSTART:20260613T083000Z
DTEND:20260614T160000Z
LOCATION:YDSC Grimwith Reservoir
SUMMARY:RYA Start Windsurfing Course
DESCRIPTION:RYA Start Windsurfing Course\nhttps://yorkshiredales.sc/events/
 rya-start-windsurfing-course-12/
URL:https://yorkshiredales.sc/events/rya-start-windsurfing-course-12/
END:VEVENT
END:VCALENDAR