BEGIN:VCALENDAR
VERSION:2.0
PRODID:-//eventon.com NONSGML v1.0//EN
CALSCALE:GREGORIAN
METHOD:PUBLISH
BEGIN:VEVENT
UID:69e8dd2b8bd41
DTSTAMP:20260422T143731Z
DTSTART:20260725T083000Z
DTEND:20260726T160000Z
LOCATION:YDSC Grimwith Reservoir
SUMMARY:RYA Start Windsurfing Course
DESCRIPTION:RYA Start Windsurfing Course\nhttps://yorkshiredales.sc/events/
 rya-start-windsurfing-course-13/
URL:https://yorkshiredales.sc/events/rya-start-windsurfing-course-13/
END:VEVENT
END:VCALENDAR