BEGIN:VCALENDAR
VERSION:2.0
PRODID:-//eventon.com NONSGML v1.0//EN
CALSCALE:GREGORIAN
METHOD:PUBLISH
BEGIN:VEVENT
UID:69e8dcac65058
DTSTAMP:20260422T143524Z
DTSTART:20260808T083000Z
DTEND:20260809T160000Z
LOCATION:YDSC Grimwith Reservoir
SUMMARY:RYA Intermediate Windsurfing Course
DESCRIPTION:RYA Intermediate Windsurfing Course\nhttps://yorkshiredales.sc/
 events/rya-intermediate-windsurfing-course/
URL:https://yorkshiredales.sc/events/rya-intermediate-windsurfing-course/
END:VEVENT
END:VCALENDAR