BEGIN:VCALENDAR
VERSION:2.0
PRODID:-//eventon.com NONSGML v1.0//EN
CALSCALE:GREGORIAN
METHOD:PUBLISH
BEGIN:VEVENT
UID:69e8dd1f23e90
DTSTAMP:20260422T143719Z
DTSTART:20260812T083000Z
DTEND:20260816T160000Z
LOCATION:YDSC Grimwith Reservoir
SUMMARY:RYA Start Windsurfing Instructor Course
DESCRIPTION:RYA Start Windsurfing Instructor Course\nhttps://yorkshiredales
 .sc/events/rya-start-windsurfing-instructor-course/
URL:https://yorkshiredales.sc/events/rya-start-windsurfing-instructor-course/
END:VEVENT
END:VCALENDAR