BEGIN:VCALENDAR
VERSION:2.0
PRODID:-//eventon.com NONSGML v1.0//EN
CALSCALE:GREGORIAN
METHOD:PUBLISH
BEGIN:VEVENT
UID:69e8dcc9573b0
DTSTAMP:20260422T143553Z
DTSTART:20260920T090000Z
DTEND:20260920T150000Z
LOCATION:
SUMMARY:Race Development Training
DESCRIPTION:Club Training\nhttps://yorkshiredales.sc/events/race-developmen
 t-training-4-2-2-2-2-2-2/
URL:https://yorkshiredales.sc/events/race-development-training-4-2-2-2-2-2-2/
END:VEVENT
END:VCALENDAR