BEGIN:VCALENDAR
VERSION:2.0
PRODID:-//eventon.com NONSGML v1.0//EN
CALSCALE:GREGORIAN
METHOD:PUBLISH
BEGIN:VEVENT
UID:69e8dccf4308f
DTSTAMP:20260422T143559Z
DTSTART:20260509
DTEND:20260510
LOCATION:
SUMMARY:ILCA Rooster Regional Youth Series - North R2 Open
DESCRIPTION:ILCA Rooster Regional Youth Series - North R2 Open\nhttps://yor
 kshiredales.sc/events/ilca-youth-and-junior-north-open/
URL:https://yorkshiredales.sc/events/ilca-youth-and-junior-north-open/
END:VEVENT
END:VCALENDAR