BEGIN:VCALENDAR
VERSION:2.0
PRODID:-//eventon.com NONSGML v1.0//EN
CALSCALE:GREGORIAN
METHOD:PUBLISH
BEGIN:VEVENT
UID:69e8dcad1572f
DTSTAMP:20260422T143525Z
DTSTART:20260530
DTEND:20260531
LOCATION:
SUMMARY:Vortex Open Meeting
DESCRIPTION:Vortex Open Meeting\nhttps://yorkshiredales.sc/events/vortex-op
 en-26/
URL:https://yorkshiredales.sc/events/vortex-open-26/
END:VEVENT
END:VCALENDAR