BEGIN:VCALENDAR
VERSION:2.0
PRODID:-//eventon.com NONSGML v1.0//EN
CALSCALE:GREGORIAN
METHOD:PUBLISH
BEGIN:VEVENT
UID:69e8dd6f4ee5f
DTSTAMP:20260422T143839Z
DTSTART:20260912T083000Z
DTEND:20260912T140000Z
LOCATION:YDSC Grimwith Reservoir
SUMMARY:Club Working Party - Reed Bashing
DESCRIPTION:Club Working Party - Reed Bashing\nhttps://yorkshiredales.sc/ev
 ents/club-working-party-reed-bashing/
URL:https://yorkshiredales.sc/events/club-working-party-reed-bashing/
END:VEVENT
END:VCALENDAR